BEGIN:VCALENDAR
VERSION:2.0
PRODID:-//ChamberMaster//Event Calendar 2.0//EN
METHOD:PUBLISH
X-PUBLISHED-TTL:P3D
REFRESH-INTERVAL:P3D
CALSCALE:GREGORIAN
BEGIN:VEVENT
DTSTART:20201028T203000Z
DTEND:20201028T213000Z
X-MICROSOFT-CDO-ALLDAYEVENT:FALSE
SUMMARY:WorkReady Virtual: Marketing 2020
DESCRIPTION:Join the WorkReady Virtual program as we explore marketing in the digital world of 2020. Kayla Viramontes of the Bold Orange will join the WorkReady program to explore her career path to marketing and running her own agency right here in Gresham\, OR and what skills\, smarts\, and exciting attributes it takes to be an entrepreneur as well as a marketing expert in this crazy digital world.
X-ALT-DESC;FMTTYPE=text/html:Join the WorkReady Virtual program as we explore marketing in the digital world of 2020. Kayla Viramontes of the Bold Orange will join the WorkReady program to explore her career path to marketing and running her own agency right here in Gresham\, OR and what skills\, smarts\, and exciting attributes it takes to be an entrepreneur as well as a marketing expert in this crazy digital world.&nbsp\;
LOCATION:Zoom! Please click the link below to join the webinar: https://us02web.zoom.us/j/87484983883 Or iPhone one-tap : US: +16699006833\,\,87484983883# or +12532158782\,\,87484983883# Or Telephone: Dial(for higher quality\, dial a number based on your current location): US: +1 669 900 6833 or +1 253 215 8782 or +1 346 248 7799 or +1 929 205 6099 or +1 301 715 8592 or +1 312 626 6799 Webinar ID: 874 8498 3883 International numbers available: https://us02web.zoom.us/u/kcBNvAeprX
UID:e.1572.8335
SEQUENCE:3
DTSTAMP:20260424T074025Z
URL:https://business.greshamchamber.org/events/details/workready-virtual-marketing-2020-8335
END:VEVENT

END:VCALENDAR
