BEGIN:VCALENDAR
VERSION:2.0
PRODID:-//ChamberMaster//Event Calendar 2.0//EN
METHOD:PUBLISH
X-PUBLISHED-TTL:P3D
REFRESH-INTERVAL:P3D
CALSCALE:GREGORIAN
BEGIN:VEVENT
DTSTART:20250712T200000Z
DTEND:20250712T213000Z
X-MICROSOFT-CDO-ALLDAYEVENT:FALSE
SUMMARY:Walking Tour of Downtown Gresham
DESCRIPTION:Learn more about the history all around us on this easy\, 1.5-hour walking tour of Downtown Gresham. We'll be talking about commercial buildings from various eras of Gresham's development and how these buildings still play an important role in our community. Stops will include the Zion Church\, M&M Restaurant\, Amiton Furniture\, and of course\, the Gresham Historical Society. Bring your burning questions!\n\nThis tour is free and friendly to all ages\, but geared towards adults. It takes place on sidewalks and is wheelchair-accessible.\n\nThe tour will begin in front of the Gresham Historical Society.
X-ALT-DESC;FMTTYPE=text/html:<div>\n<p>Learn more about the history all around us on this easy\, 1.5-hour walking tour of Downtown Gresham. We&#39\;ll be talking about commercial buildings from various eras of Gresham&#39\;s development and how these buildings still play an important role in our community. Stops will include the Zion Church\, M&amp\;M Restaurant\, Amiton Furniture\, and of course\, the Gresham Historical Society. Bring your burning questions!<br />\nThis tour is <strong>free </strong>and friendly to all ages\, but geared towards adults. It takes place on sidewalks and is wheelchair-accessible.</p>\n\n<p>The tour will begin in front of the Gresham Historical Society.</p>\n</div>\n
LOCATION:Gresham Historical Society 410 N Main Ave Gresham\, OR 97030
UID:e.1572.14869
SEQUENCE:3
DTSTAMP:20260420T090507Z
URL:https://business.greshamchamber.org/events/details/walking-tour-of-downtown-gresham-07-12-2025-14869
END:VEVENT

END:VCALENDAR
