BEGIN:VCALENDAR
VERSION:2.0
PRODID:-//ChamberMaster//Event Calendar 2.0//EN
METHOD:PUBLISH
X-PUBLISHED-TTL:P3D
REFRESH-INTERVAL:P3D
CALSCALE:GREGORIAN
BEGIN:VEVENT
DTSTART:20260312T003000Z
DTEND:20260312T020000Z
X-MICROSOFT-CDO-ALLDAYEVENT:FALSE
SUMMARY:Unofficial Social Hour
DESCRIPTION:Join your fellow Gresham-area business owners for some off-the-clock fun at this member-led Unofficial Social Hour.\n\n\n\nThis month\, we're gathering on Wednesday\, March 11th\, at Wayfinder Beer\,  serving up some seriously tasty eats. Great drinks\, great food\, and even better company   what more do you need after a long day?\n\n\n\nThis casual get-together is open to both Gresham Area Chamber members and local business owners or entrepreneurs from Gresham and surrounding communities. Whether you're a regular at Chamber events or brand new and want to meet some other local folks in business\, you're welcome here.\n\n\n\nThe Unofficial Social Hour takes place monthly on the second Wednesday\, with locations rotating among locally owned venues. Expect good conversation\, (very) casual networking\, and genuine community connection.
X-ALT-DESC;FMTTYPE=text/html:Join your fellow Gresham-area business owners for some off-the-clock fun at this member-led Unofficial Social Hour.<br />\n<br />\nThis month\, we&rsquo\;re gathering on <strong>Wednesday\, March 11th</strong>\, at <strong>Wayfinder Beer</strong>\, &nbsp\;serving up some seriously tasty eats. Great drinks\, great food\, and even better company &mdash\; what more do you need after a long day?<br />\n<br />\nThis casual get-together is open to <strong><span style="font-family:aptos\,sans-serif\;">both Gresham Area Chamber members and local business owners or entrepreneurs</span></strong> from Gresham and surrounding communities. Whether you&rsquo\;re a regular at Chamber events or brand new and want to meet some other local folks in business\, you&rsquo\;re welcome here.<br />\n<br />\nThe Unofficial Social Hour takes place <strong><span style="font-family:aptos\,sans-serif\;">monthly on the second Wednesday</span></strong>\, with locations rotating among locally owned venues. Expect good conversation\, (very) casual networking\, and genuine community connection.
LOCATION:WAYFINDER BEER 153 Buxton Rd Troutdale\, OR 97060
UID:e.1572.15481
SEQUENCE:3
DTSTAMP:20260420T103745Z
URL:https://business.greshamchamber.org/events/details/unofficial-social-hour-15481
END:VEVENT

END:VCALENDAR
