BEGIN:VCALENDAR
VERSION:2.0
PRODID:-//ChamberMaster//Event Calendar 2.0//EN
METHOD:PUBLISH
X-PUBLISHED-TTL:P3D
REFRESH-INTERVAL:P3D
CALSCALE:GREGORIAN
BEGIN:VEVENT
DTSTART:20221110T023000Z
DTEND:20221110T040000Z
X-MICROSOFT-CDO-ALLDAYEVENT:FALSE
SUMMARY:Unofficial Happy Hour
DESCRIPTION:Come join your fellow Gresham Chamber of Commerce members for a special Happy Hour event at the Gateway Gresham Elks Lodge #1805.  Friends\, family\, co-workers\, and prospective Gresham Chamber members welcome.
X-ALT-DESC;FMTTYPE=text/html:<strong><span style="font-size:22px\;"><span style="font-family: Helvetica\, Arial\, sans-serif\; caret-color: rgb(0\, 0\, 0)\;">Come join your fellow Gresham Chamber of Commerce members for a special Happy Hour event at</span><span style="font-family: Helvetica\, Arial\, sans-serif\; caret-color: rgb(0\, 0\, 0)\;"><span style="font-family: arial\;">&nbsp\;the&nbsp\;</span></span><span style="color:#800080\;">Gateway Gresham Elks Lodge #1805</span><span style="font-family: arial\;"><span style="caret-color: rgb(0\, 0\, 0)\;">.&nbsp\;</span></span><span style="font-family: Helvetica\, Arial\, sans-serif\; caret-color: rgb(0\, 0\, 0)\;"><span style="font-family: arial\;">&nbsp\;Friends\, family\, co-workers\, and prospective Gresham Cham</span>ber members welcome.&nbsp\;&nbsp\;</span></span></strong>
LOCATION:Gateway Gresham Elks Lodge #1805 3330 NE Division Street Gresham\, OR 97030
UID:e.1572.9941
SEQUENCE:3
DTSTAMP:20260422T155332Z
URL:https://business.greshamchamber.org/events/details/unofficial-happy-hour-11-09-2022-9941
END:VEVENT

END:VCALENDAR
