BEGIN:VCALENDAR
VERSION:2.0
PRODID:-//ChamberMaster//Event Calendar 2.0//EN
METHOD:PUBLISH
X-PUBLISHED-TTL:P3D
REFRESH-INTERVAL:P3D
CALSCALE:GREGORIAN
BEGIN:VEVENT
DTSTART:20210812T003000Z
DTEND:20210812T020000Z
X-MICROSOFT-CDO-ALLDAYEVENT:FALSE
SUMMARY:Unofficial Happy Hour
DESCRIPTION:Come join your fellow Gresham Chamber of Commerce members for a special Happy Hour event at Pour Sports Bar & Grill East County.  Friends\, family\, co-workers\, and prospective Gresham Chamber members welcome.
X-ALT-DESC;FMTTYPE=text/html:<br />\n<br />\n<span style="font-size:22px\;"><span style="font-family: Helvetica\, Arial\, sans-serif\; caret-color: rgb(0\, 0\, 0)\;">Come join your fellow Gresham Chamber of Commerce members for a special Happy Hour event at&nbsp\;</span><span style="font-family:arial\;">Pour Sports Bar &amp\; Grill East County</span><span style="font-family: Helvetica\, Arial\, sans-serif\; caret-color: rgb(0\, 0\, 0)\;"><span style="font-family:arial\;">.&nbsp\; Friends\, fami</span>ly\, co-workers\, and prospective Gresham Chamber members welcome.&nbsp\;&nbsp\;</span></span>
LOCATION:Pour Sports Bar & Grill East County 2157 NE Division St. Gresham\, OR 97030
UID:e.1572.8730
SEQUENCE:3
DTSTAMP:20260425T215216Z
URL:https://business.greshamchamber.org/events/details/unofficial-happy-hour-08-11-2021-8730
END:VEVENT

END:VCALENDAR
