BEGIN:VCALENDAR
VERSION:2.0
PRODID:-//ChamberMaster//Event Calendar 2.0//EN
METHOD:PUBLISH
X-PUBLISHED-TTL:P3D
REFRESH-INTERVAL:P3D
CALSCALE:GREGORIAN
BEGIN:VEVENT
DTSTART:20220811T003000Z
DTEND:20220811T020000Z
X-MICROSOFT-CDO-ALLDAYEVENT:FALSE
SUMMARY:Unofficial Happy Hour
DESCRIPTION:Come join your fellow Gresham Chamber of Commerce members for a special Happy Hour event at Troutdale Station Food Carts.  Stop by to visit new members Low Carb Comforts and Le Petit Caf  Troutdale!  Friends\, family\, co-workers\, and prospective Gresham Chamber members welcome.
X-ALT-DESC;FMTTYPE=text/html:<span style="font-size:22px\;"><span style="font-family:arial\;"><span style="caret-color: rgb(0\, 0\, 0)\;">Come join your fellow Gresham Chamber of Commerce members for a special Happy Hour event at</span><span style="caret-color: rgb(0\, 0\, 0)\;">&nbsp\;</span>Troutdale Station Food Carts<span style="caret-color: rgb(0\, 0\, 0)\;">.&nbsp\;</span><span style="caret-color: rgb(0\, 0\, 0)\;">&nbsp\;Stop by to visit new members </span><span style="color:#800080\;"><strong>Low Carb Comforts</strong></span> and&nbsp\;<span style="color:#800080\;"><strong>Le Petit Caf&eacute\; Troutdale</strong></span>!&nbsp\;&nbsp\;<span style="caret-color: rgb(0\, 0\, 0)\;">Friends\, family\, co-workers\, and prospective Gresham Chamber members welcome.&nbsp\;&nbsp\;</span></span></span>
LOCATION:Troutdale Station Food Carts 151 SW 257th Drive Troutdale\, OR 97060
UID:e.1572.9938
SEQUENCE:3
DTSTAMP:20260423T092917Z
URL:https://business.greshamchamber.org/events/details/unofficial-happy-hour-08-10-2022-9938
END:VEVENT

END:VCALENDAR
