BEGIN:VCALENDAR
VERSION:2.0
PRODID:-//ChamberMaster//Event Calendar 2.0//EN
METHOD:PUBLISH
X-PUBLISHED-TTL:P3D
REFRESH-INTERVAL:P3D
CALSCALE:GREGORIAN
BEGIN:VEVENT
DTSTART:20230810T003000Z
DTEND:20230810T020000Z
X-MICROSOFT-CDO-ALLDAYEVENT:FALSE
SUMMARY:Unofficial Happy Hour
DESCRIPTION:Come join your fellow Gresham Area Chamber of Commerce members for a special Happy Hour event at Pour Sports Bar .  Friends\, family\, co-workers\, and prospective Gresham Chamber members welcome.
X-ALT-DESC;FMTTYPE=text/html:<strong><span style="font-size: 22px\; font-family: Helvetica\, Arial\, sans-serif\; caret-color: rgb(0\, 0\, 0)\;">Come join your fellow Gresham Area Chamber of Commerce members for a special Happy Hour event at</span><span style="font-family: Helvetica\, Arial\, sans-serif\; caret-color: rgb(0\, 0\, 0)\;"><span style="font-family: arial\;">&nbsp\;</span></span><span style="font-size:22px\;">Pour Sports Bar&#8203\;<strong>.</strong><span style="font-family: arial\;"><span style="caret-color: rgb(0\, 0\, 0)\;">&nbsp\;</span></span></span><span style="font-size: 22px\; font-family: Helvetica\, Arial\, sans-serif\; caret-color: rgb(0\, 0\, 0)\;"><span style="font-family: arial\;">&nbsp\;Friends\, family\, co-workers\, and prospective Gresham Cham</span>ber members welcome.&nbsp\;&nbsp\;</span></strong>
LOCATION:Pour Sports Bar 2157 NE Division St. Gresham\, OR 97030
UID:e.1572.11151
SEQUENCE:3
DTSTAMP:20260420T015551Z
URL:https://business.greshamchamber.org/events/details/unofficial-happy-hour-08-09-2023-11151
END:VEVENT

END:VCALENDAR
