BEGIN:VCALENDAR
VERSION:2.0
PRODID:-//ChamberMaster//Event Calendar 2.0//EN
METHOD:PUBLISH
X-PUBLISHED-TTL:P3D
REFRESH-INTERVAL:P3D
CALSCALE:GREGORIAN
BEGIN:VEVENT
DTSTART:20210715T003000Z
DTEND:20210715T020000Z
X-MICROSOFT-CDO-ALLDAYEVENT:FALSE
SUMMARY:Unofficial Happy Hour
DESCRIPTION:Come join your fellow Gresham Area Chamber of Commerce members for a special Happy Hour event at McMenamins Edgefield\, (outside - up at the Distillery/Golf Course picnic tables).  Friends\, family\, co-workers\, and prospective Gresham Chamber members welcome.
X-ALT-DESC;FMTTYPE=text/html:<br />\n<span style="font-size: 22px\;"><span style="font-family: Helvetica\, Arial\, sans-serif\; caret-color: rgb(0\, 0\, 0)\;">Come join your fellow Gresham Area Chamber of Commerce members for a special Happy Hour event at&nbsp\;</span><strong><span style="color:#800080\;"><span style="font-family:arial\;">McMenamins Edgefield\, </span></span></strong><span style="font-family:arial\;">(outside - up at the Distillery/Golf Course picnic tables)</span><span style="font-family: Helvetica\, Arial\, sans-serif\; caret-color: rgb(0\, 0\, 0)\;">.&nbsp\; Friends\, family\, co-workers\, and prospective Gresham Chamber members welcome.&nbsp\;&nbsp\;</span></span><br />\n&nbsp\;
LOCATION:McMenamins Edgefield (outside - up at the Distillery/Golf Course picnic tables) 2126 SW Halsey Street Troutdale\, OR 97060
UID:e.1572.8729
SEQUENCE:3
DTSTAMP:20260425T195834Z
URL:https://business.greshamchamber.org/events/details/unofficial-happy-hour-07-14-2021-8729
END:VEVENT

END:VCALENDAR
