BEGIN:VCALENDAR
VERSION:2.0
PRODID:-//ChamberMaster//Event Calendar 2.0//EN
METHOD:PUBLISH
X-PUBLISHED-TTL:P3D
REFRESH-INTERVAL:P3D
CALSCALE:GREGORIAN
BEGIN:VEVENT
DTSTART;VALUE=DATE:20210223
DTEND;VALUE=DATE:20210224
TRANSP:TRANSPARENT
X-MICROSOFT-CDO-ALLDAYEVENT:TRUE
SUMMARY:Try Local First
DESCRIPTION:Join us for a 'Virtual Chick Flick' featuring Burns Feed Store! We will post a video of their baby chicks and all the other great things they have to offer at their store. It will be posted on Facebook. \n\n\nUnfortunately\, due to our winter weather\, the baby chicks were delayed for their arrival\, so the video will be posted by the end of next week. Thank you for your patience and understanding.
X-ALT-DESC;FMTTYPE=text/html:<br />\n<span style="font-size:22px\;"><span style="font-family:arial\;">Join us for a&nbsp\;<em>&#39\;Virtual Chick Flick&#39\; </em>featuring&nbsp\;<strong><span style="color:#800080\;">Burns Feed Store! </span></strong>We will post a&nbsp\;video of their baby chicks </span></span><span style="font-family: arial\; font-size: 22px\;">and all the other great things they have to offer at their store. It will be posted&nbsp\;</span><span style="font-size:22px\;"><span style="font-family:arial\;">on Facebook.&nbsp\;</span></span>\n<div style="margin-bottom:0in\;"><br />\n<span style="color:#0000FF\;"><span style="font-size:22px\;"><span style="font-family:arial\;">Unfortunately\, due to our winter weather\, the baby chicks were delayed for their arrival\, so the video will be posted by&nbsp\;the end of next week. Thank you for your patience and understanding.</span></span></span></div>\n\n<div style="margin-bottom:0in\;">&nbsp\;</div>\n
LOCATION:Burns Feed Store
UID:e.1572.8643
SEQUENCE:3
DTSTAMP:20260420T084129Z
URL:https://business.greshamchamber.org/events/details/try-local-first-8643
END:VEVENT

END:VCALENDAR
