BEGIN:VCALENDAR
VERSION:2.0
PRODID:-//ChamberMaster//Event Calendar 2.0//EN
METHOD:PUBLISH
X-PUBLISHED-TTL:P3D
REFRESH-INTERVAL:P3D
CALSCALE:GREGORIAN
BEGIN:VEVENT
DTSTART:20230823T010000Z
DTEND:20230823T023000Z
X-MICROSOFT-CDO-ALLDAYEVENT:FALSE
SUMMARY:Try Local First
DESCRIPTION:Enjoy a night of bowling fun at Mt. Hood Lanes\, Inc.!\n\n\n\nPlease register in advance so we know how many lanes to reserve.
X-ALT-DESC;FMTTYPE=text/html:<span style="font-size:36px\;"><strong><span style="font-family:arial\;">Enjoy a night of bowling fun at<span style="color:#0000CD\;"> </span><span style="color:#800080\;">Mt. Hood Lanes\, Inc.</span>!</span></strong></span><br />\n<br />\n<strong><span style="font-size:36px\;">Please register in advance so we know how many lanes to reserve.</span></strong>
LOCATION:Mt. Hood Lanes\, Inc. 2311 E Powell Blvd. Gresham\, OR 97080
UID:e.1572.12643
SEQUENCE:3
DTSTAMP:20260419T140243Z
URL:https://business.greshamchamber.org/events/details/try-local-first-12643
END:VEVENT

END:VCALENDAR
