BEGIN:VCALENDAR
VERSION:2.0
PRODID:-//ChamberMaster//Event Calendar 2.0//EN
METHOD:PUBLISH
X-PUBLISHED-TTL:P3D
REFRESH-INTERVAL:P3D
CALSCALE:GREGORIAN
BEGIN:VEVENT
DTSTART:20221113T230000Z
DTEND:20221114T020000Z
X-MICROSOFT-CDO-ALLDAYEVENT:FALSE
SUMMARY:Try Local First
DESCRIPTION:Join us for an afternoon at the Symphony! Portland Columbia Symphony presents-\nIn an evocative program that conjures up wild landscapes from Tasmania and Manhattan turf wars\, the focus is on Grammy-nominated violist Brett Deubner. A recipient of a United States Congressional Certi cate of Recognition\, Deubner returns to perform two world premieres written expressly for him\, including one by PCSO's own (and Portland native) Nicole Buetti. A soulful and passionate performance.\n\n\n\nSingle tickets start at $30.\n\n\n\nPROGRAM\n\nMaria Grenfell  River Mountain Sky\n\nNicole Buetti  Quasar   Elegy for Viola and Orchestra   World Premiere\n\nJohan Hugosson  Samarthana   World Premiere\n\nLeonard Bernstein  Symphonic Dances from West Side Story\n\n\n\nSunday\, November 13\, 2022\, 3:00 pm at Gresham High School Auditorium
X-ALT-DESC;FMTTYPE=text/html:<span style="font-size:18px\;"><span style="font-family:arial\;"><span style="font-size:22px\;"><strong><span style="color:#00cccc\;">Join us for an afternoon at the Symphony!</span> </strong>Portland Columbia Symphony presents-</span></span></span>\n<p style="min-height: 0px\; min-width: 0px\; box-sizing: inherit\; font-family: Montserrat\, Helvetica\, sans-serif\; font-size: 1.4rem\; margin: 0px 0px 14px\; line-height: 1.5\;">In an evocative program that conjures up wild landscapes from Tasmania and Manhattan turf wars\, the focus is on Grammy-nominated violist Brett Deubner. A recipient of a United States Congressional Certi&#64257\;cate of Recognition\, Deubner returns to perform&nbsp\;<span style="min-height: 0px\; min-width: 0px\; box-sizing: inherit\; font-weight: 800\;">two world premieres</span>&nbsp\;written expressly for him\, including one by PCSO&rsquo\;s own (and Portland native) Nicole Buetti. A soulful and passionate performance.</p>\n\n<p style="min-height: 0px\; min-width: 0px\; box-sizing: inherit\; font-family: Montserrat\, Helvetica\, sans-serif\; font-size: 1.4rem\; margin: 0px 0px 14px\; line-height: 1.5\;"><br />\n<u>Single tickets start at $30.</u></p>\n\n<h4 style="min-height: 0px\; min-width: 0px\; box-sizing: inherit\; margin: 0px 0px 20px\; -webkit-font-smoothing: antialiased\; font-size: 2.1rem\; font-family: Nunito\, Montserrat\, Helvetica\, sans-serif\; color: rgb(49\, 185\, 186)\; text-transform: uppercase\; letter-spacing: 1px\;"><br />\nPROGRAM</h4>\n\n<p style="min-height: 0px\; min-width: 0px\; box-sizing: inherit\; font-family: Montserrat\, Helvetica\, sans-serif\; font-size: 1.4rem\; margin: 0px 0px 14px\; line-height: 1.5\;"><span style="min-height: 0px\; min-width: 0px\; box-sizing: inherit\;"><span style="min-height: 0px\; min-width: 0px\; box-sizing: inherit\; font-weight: 800\;">Maria Grenfell</span>&nbsp\; River Mountain Sky</span><br style="min-height: 0px\; min-width: 0px\; box-sizing: inherit\;" />\n<span style="min-height: 0px\; min-width: 0px\; box-sizing: inherit\;"><span style="min-height: 0px\; min-width: 0px\; box-sizing: inherit\; font-weight: 800\;">Nicole Buetti</span>&nbsp\; Quasar &ndash\; Elegy for Viola and Orchestra &ndash\; World Premiere</span><br style="min-height: 0px\; min-width: 0px\; box-sizing: inherit\;" />\n<span style="min-height: 0px\; min-width: 0px\; box-sizing: inherit\;"><span style="min-height: 0px\; min-width: 0px\; box-sizing: inherit\; font-weight: 800\;">Johan Hugosson</span>&nbsp\; Samarthana &ndash\; World Premiere</span><br style="min-height: 0px\; min-width: 0px\; box-sizing: inherit\;" />\n<span style="min-height: 0px\; min-width: 0px\; box-sizing: inherit\;"><span style="min-height: 0px\; min-width: 0px\; box-sizing: inherit\; font-weight: 800\;">Leonard Bernstein</span>&nbsp\; Symphonic Dances from West Side Story</span></p>\n\n<p style="min-height: 0px\; min-width: 0px\; box-sizing: inherit\; font-family: Montserrat\, Helvetica\, sans-serif\; font-size: 1.4rem\; margin: 0px 0px 14px\; line-height: 1.5\;"><br style="min-height: 0px\; min-width: 0px\; box-sizing: inherit\;" />\n<a href="https://app.arts-people.com/index.php?performance=598277" style="min-height: 0px\; min-width: 0px\; box-sizing: inherit\; background-color: transparent\; color: rgb(49\, 185\, 186)\; font-size: 1em\; line-height: 1.5\; text-decoration-line: none\;"><span style="min-height: 0px\; min-width: 0px\; box-sizing: inherit\; font-weight: 800\;">Sunday\, November 13</span></a>\, 2022\, 3:00 pm at Gresham High School Auditorium</p>\n
LOCATION:Gresham High School Auditorium
UID:e.1572.10039
SEQUENCE:3
DTSTAMP:20260422T152559Z
URL:https://business.greshamchamber.org/events/details/try-local-first-11-22-2022-10039
END:VEVENT

END:VCALENDAR
