BEGIN:VCALENDAR
VERSION:2.0
PRODID:-//ChamberMaster//Event Calendar 2.0//EN
METHOD:PUBLISH
X-PUBLISHED-TTL:P3D
REFRESH-INTERVAL:P3D
CALSCALE:GREGORIAN
BEGIN:VEVENT
DTSTART:20210928T233000Z
DTEND:20210929T010000Z
X-MICROSOFT-CDO-ALLDAYEVENT:FALSE
SUMMARY:Try Local First
DESCRIPTION:"You and Me at Cafe D!" Come join us at Cafe Delirium for a coffee and a chat in their back room.
X-ALT-DESC;FMTTYPE=text/html:<br />\n<span style="font-size: 22px\;">&quot\;You and Me at Cafe D!&quot\; Come join us at <strong><span style="color:#800080\;">Cafe Delirium</span></strong> for a coffee and a chat in their back room.&nbsp\;</span>
LOCATION:Cafe Delirium 308 N Main Avenue Gresham\, OR 97030
UID:e.1572.8686
SEQUENCE:3
DTSTAMP:20260425T235409Z
URL:https://business.greshamchamber.org/events/details/try-local-first-09-28-2021-8686
END:VEVENT

END:VCALENDAR
