BEGIN:VCALENDAR
VERSION:2.0
PRODID:-//ChamberMaster//Event Calendar 2.0//EN
METHOD:PUBLISH
X-PUBLISHED-TTL:P3D
REFRESH-INTERVAL:P3D
CALSCALE:GREGORIAN
BEGIN:VEVENT
DTSTART:20210825T000000Z
DTEND:20210825T013000Z
X-MICROSOFT-CDO-ALLDAYEVENT:FALSE
SUMMARY:Try Local First
DESCRIPTION:A Sweet Treat and A Walk in the Park!\n\n\n\nJoin us as we get a sweet treat from Frenzi Frozen Yogurt  located in downtown Gresham\, and then walk down Main St. to Tsuru Island - Gresham Japanese Garden!
X-ALT-DESC;FMTTYPE=text/html:<br />\n<span style="font-size:22px\;">A Sweet Treat and A Walk in the Park!<br />\n<br />\nJoin us as we get a sweet treat from <span style="color:#008080\;">Frenzi Frozen Yogurt&nbsp\; </span>located in downtown Gresham\,&nbsp\;and then walk down Main St.&nbsp\;to <span style="color:#008080\;">Tsuru Island - Gresham Japanese Garden!</span></span>
LOCATION:Frenzi Frozen Yogurt 234 N Main Ave. Gresham\, OR 97030
UID:e.1572.8685
SEQUENCE:3
DTSTAMP:20260425T214825Z
URL:https://business.greshamchamber.org/events/details/try-local-first-08-24-2021-8685
END:VEVENT

END:VCALENDAR
