BEGIN:VCALENDAR
VERSION:2.0
PRODID:-//ChamberMaster//Event Calendar 2.0//EN
METHOD:PUBLISH
X-PUBLISHED-TTL:P3D
REFRESH-INTERVAL:P3D
CALSCALE:GREGORIAN
BEGIN:VEVENT
DTSTART:20220629T233000Z
DTEND:20220630T010000Z
X-MICROSOFT-CDO-ALLDAYEVENT:FALSE
SUMMARY:Try Local First
DESCRIPTION:Golden Whisk is back!\n\nChefs-\n\nBrian York- Clackamas County Bank\n\nKirstan Rogers- ROG3ERS REALTY INC\n\nChristy Kinsey- Landmark Tax & Investment Services Inc.\n\nRandy Paden- RP Computing\n\n\n\nCome out and taste awesome food and vote on your FAVORITE!\n\n\n\nThe winner will be awarded the Golden Whisk.
X-ALT-DESC;FMTTYPE=text/html:<span style="color:#DAA520\;"><strong><span style="font-size:24px\;">Golden Whisk is back!</span></strong></span><br />\n<span style="color:#0000CD\;"><strong><span style="font-size:24px\;">Chefs-<br />\nBrian York- Clackamas County Bank<br />\nKirstan Rogers- ROG3ERS REALTY INC<br />\nChristy Kinsey- Landmark Tax &amp\; Investment Services Inc.</span></strong></span><br />\n<span style="color:#0000CD\;"><strong><span style="font-size:24px\;">Randy Paden- RP Computing<br />\n<br />\nCome out and taste awesome food and vote on your FAVORITE!<br />\n<br />\nThe winner will be awarded the Golden Whisk.</span></strong></span>
LOCATION:Riegelmann's Appliance 301 Powell Blvd\, Gresham\, OR 97030
UID:e.1572.10033
SEQUENCE:3
DTSTAMP:20260424T042132Z
URL:https://business.greshamchamber.org/events/details/try-local-first-06-29-2022-10033
END:VEVENT

END:VCALENDAR
