BEGIN:VCALENDAR
VERSION:2.0
PRODID:-//ChamberMaster//Event Calendar 2.0//EN
METHOD:PUBLISH
X-PUBLISHED-TTL:P3D
REFRESH-INTERVAL:P3D
CALSCALE:GREGORIAN
BEGIN:VEVENT
DTSTART:20210825T230000Z
DTEND:20210826T020000Z
X-MICROSOFT-CDO-ALLDAYEVENT:FALSE
SUMMARY:Time of Remembering
DESCRIPTION:Community members are invited to join this drop-in celebration to remember loved ones. This year will be an outdoor event in Meinig Park\, offering different ways to help us celebrate and remember our loved ones.\n\n\n\nSubmit photos for this event by August 10\, 2021.\n\n\n\nEmail event@mthoodhospice.org for more information\, inquiries or submissions.
X-ALT-DESC;FMTTYPE=text/html:<strong>Community members are invited to join this drop-in celebration to remember loved ones. This year will be an outdoor event in Meinig Park\, offering different ways to help us celebrate and remember our loved ones.<br />\n<br />\nSubmit photos for this event by August 10\, 2021.</strong><br />\n<br />\n<strong>Email&nbsp\;<a href="mailto:event@mthoodhospice.org" style="box-sizing: border-box\; margin: 0px\; padding: 0px\; border: 0px\; outline: 0px\; text-size-adjust: 100%\; vertical-align: baseline\; background: transparent\; color: rgb(0\, 0\, 238)\; text-decoration-line: none\;">event@mthoodhospice.org</a>&nbsp\;for more information\, inquiries or submissions.</strong>
LOCATION:Meinig Park\, Sandy\, OR
UID:e.1572.9795
SEQUENCE:3
DTSTAMP:20260425T214823Z
URL:https://business.greshamchamber.org/events/details/time-of-remembering-9795
END:VEVENT

END:VCALENDAR
