BEGIN:VCALENDAR
VERSION:2.0
PRODID:-//ChamberMaster//Event Calendar 2.0//EN
METHOD:PUBLISH
X-PUBLISHED-TTL:P3D
REFRESH-INTERVAL:P3D
CALSCALE:GREGORIAN
BEGIN:VEVENT
DTSTART:20210820T000000Z
DTEND:20210820T030000Z
X-MICROSOFT-CDO-ALLDAYEVENT:FALSE
SUMMARY:Third Thursday
DESCRIPTION:Celebrate Third Thursday with us from 5 to 8 pm in front of the Museum. An artist will be on hand and Author Bruce Haney\, who wrote Eccentric Tales of Boring\, Oregon will be on hand to sell and sign books. We have Gresham History Books\, Gresham Ornaments\, Gresham postcards\, and much much more for sale.
X-ALT-DESC;FMTTYPE=text/html:Celebrate Third Thursday with us from 5 to 8 pm in front of the Museum. An artist will be on hand and Author Bruce Haney\, who wrote Eccentric Tales of Boring\, Oregon will be on hand to sell and sign books. We have Gresham History Books\, Gresham Ornaments\, Gresham postcards\, and much much more for sale.
LOCATION:Gresham History Museum 410 N Main Avenue
UID:e.1572.9793
SEQUENCE:3
DTSTAMP:20260425T214910Z
URL:https://business.greshamchamber.org/events/details/third-thursday-july-15-08-19-2021-9793
END:VEVENT

END:VCALENDAR
