BEGIN:VCALENDAR
VERSION:2.0
PRODID:-//ChamberMaster//Event Calendar 2.0//EN
METHOD:PUBLISH
X-PUBLISHED-TTL:P3D
REFRESH-INTERVAL:P3D
CALSCALE:GREGORIAN
BEGIN:VEVENT
DTSTART:20210820T000000Z
DTEND:20210820T030000Z
X-MICROSOFT-CDO-ALLDAYEVENT:FALSE
SUMMARY:Third Thursday at the Gresham History Museum
DESCRIPTION:Celebrate Third Thursday with us from 5 to 8 pm in front of the Museum. We have Gresham History Books\, Gresham Ornaments\, Gresham postcards\, and much much more for sale.
X-ALT-DESC;FMTTYPE=text/html:<span style="font-size:18px\;"><span style="font-family:times new roman"><span style="background-color:rgb(250\, 250\, 250)\; color:rgb(66\, 66\, 66)">Celebrate Third Thursday with us from 5 to 8 pm in front of the Museum. We have Gresham History Books\, Gresham Ornaments\, Gresham postcards\, and much much more for sale.</span></span></span>
LOCATION:Gresham History Museum 410 N Main Avenue
UID:e.1572.9798
SEQUENCE:3
DTSTAMP:20260425T214823Z
URL:https://business.greshamchamber.org/events/details/third-thursday-at-the-gresham-history-museum-9798
END:VEVENT

END:VCALENDAR
