BEGIN:VCALENDAR
VERSION:2.0
PRODID:-//ChamberMaster//Event Calendar 2.0//EN
METHOD:PUBLISH
X-PUBLISHED-TTL:P3D
REFRESH-INTERVAL:P3D
CALSCALE:GREGORIAN
BEGIN:VEVENT
DTSTART:20210902T160000Z
DTEND:20210903T000000Z
X-MICROSOFT-CDO-ALLDAYEVENT:FALSE
SUMMARY:The Village Retirement Center Foundation - Annual Benefit Rummage Sale
DESCRIPTION:Come and browse the many fabulous bargains. \n\n\n\nAll proceeds benefit residents in need of financial assistance.
X-ALT-DESC;FMTTYPE=text/html:<br />\n<strong>Come and browse the many fabulous bargains.&nbsp\;<br />\n<br />\nAll proceeds benefit residents in need of financial assistance.&nbsp\;</strong><br />\n<br />\n<br />\n&nbsp\;
LOCATION:4501 WEST POWELL BOULEVARD\, GRESHAM. JUST WEST OF THE TACO BELL ON THE CORNER OF 181ST AND WEST POWELL BOULEVARD.
UID:e.1572.9802
SEQUENCE:3
DTSTAMP:20260426T000417Z
URL:https://business.greshamchamber.org/events/details/the-village-retirement-center-foundation-annual-benefit-rummage-sale-09-02-2021-9802
END:VEVENT

END:VCALENDAR
