BEGIN:VCALENDAR
VERSION:2.0
PRODID:-//ChamberMaster//Event Calendar 2.0//EN
METHOD:PUBLISH
X-PUBLISHED-TTL:P3D
REFRESH-INTERVAL:P3D
CALSCALE:GREGORIAN
BEGIN:VEVENT
DTSTART:20210712T143000Z
DTEND:20210712T223000Z
X-MICROSOFT-CDO-ALLDAYEVENT:FALSE
SUMMARY:The Rotary Club of Gresham Golf Tournament
DESCRIPTION:The Rotary Club of Gresham Golf Tournament at Persimmon Country Club\n\nRaffle Drawing and Prize Awards follow when last team is done.\n\n\n\nFor more information contact:\n\nSteve Brown - Rotary Club of Gresham President (503) 890-6160\n\nGlen Akers - Rotary Club of Gresham President-Elect (503) 929-5703
X-ALT-DESC;FMTTYPE=text/html:<br />\n<span style="font-size:18px\;"><span style="font-size:22px\;">The Rotary Club of Gresham Golf Tournament at Persimmon Country Club</span><br />\nRaffle Drawing and Prize Awards follow when last team is done.<br />\n<br />\n<span style="font-size:14px\;">For more information contact:<br />\nSteve Brown - Rotary Club of Gresham President (503) 890-6160<br />\nGlen Akers -&nbsp\;Rotary Club of Gresham&nbsp\;President-Elect (503) 929-5703</span></span>
LOCATION:Persimmon Country Club 500 SE Butler Rd. Gresham\, OR 97080
UID:e.1572.9480
SEQUENCE:3
DTSTAMP:20260425T215426Z
URL:https://business.greshamchamber.org/events/details/the-rotary-club-of-gresham-golf-tournament-9480
END:VEVENT

END:VCALENDAR
