BEGIN:VCALENDAR
VERSION:2.0
PRODID:-//ChamberMaster//Event Calendar 2.0//EN
METHOD:PUBLISH
X-PUBLISHED-TTL:P3D
REFRESH-INTERVAL:P3D
CALSCALE:GREGORIAN
BEGIN:VEVENT
DTSTART:20210725T200000Z
DTEND:20210725T230000Z
X-MICROSOFT-CDO-ALLDAYEVENT:FALSE
SUMMARY:The Evolution of Radio with Dick Karman
DESCRIPTION:The Gresham History Museum will present a musical program with Disc Jockey Richard Karman featuring highlights of the "Evolution of Radio." We will be saying farewell to a unique display of some of the earliest broadcast radios in the state and they are set to leave the Museum in early August. The Evolution of Radio will be a guided tour of not just those pieces of hardware\, but the programs that were heard on those radios when they were in homes in Gresham and across Oregon.
X-ALT-DESC;FMTTYPE=text/html:<div style="text-align: center\;"><span style="color:#222222"><span style="font-family:palatino linotype\,serif"><span style="font-size:14pt">The Gresham History Museum will present a musical program with Disc Jockey Richard Karman featuring highlights of the<strong> &ldquo\;Evolution of Radio.&rdquo\; </strong></span></span></span><span style="font-family:palatino linotype\,serif"><span style="font-size:14.0pt">We will be saying farewell to a unique display of some of the earliest broadcast radios in the state and they are set to leave the Museum in early August. The Evolution of Radio will be a guided tour of not just those pieces of hardware\, but the programs that were heard on those radios when they were in homes in Gresham and across Oregon.&nbsp\;</span></span></div>\n
LOCATION:Gresham History Museum 410 N Main Ave
UID:e.1572.9787
SEQUENCE:3
DTSTAMP:20260425T195728Z
URL:https://business.greshamchamber.org/events/details/the-evolution-of-radio-with-dick-karman-9787
END:VEVENT

END:VCALENDAR
