BEGIN:VCALENDAR
VERSION:2.0
PRODID:-//ChamberMaster//Event Calendar 2.0//EN
METHOD:PUBLISH
X-PUBLISHED-TTL:P3D
REFRESH-INTERVAL:P3D
CALSCALE:GREGORIAN
BEGIN:VEVENT
DTSTART:20230617T200000Z
DTEND:20230617T220000Z
X-MICROSOFT-CDO-ALLDAYEVENT:FALSE
SUMMARY:Summer Camp Open House
DESCRIPTION:Try It - Rock Haven Summer Camps\n\nClimb\, play games\, meet the coaches!\n\nSign up at the Open House and save 10%\, share to your social and save an EXTRA 10%\n\nCamps for ages 5 - 7 July 17 and Aug 21\n\nCamps for ages 8 - 13 all weeks starting June 26
X-ALT-DESC;FMTTYPE=text/html:<strong><span style="font-size:22px\;">Try It - Rock Haven Summer Camps<br />\nClimb\, play games\, meet the coaches!<br />\nSign up at the Open House and save 10%\, share to your social and save an EXTRA 10%<br />\nCamps for ages 5 - 7 July 17 and Aug 21<br />\nCamps for ages 8 - 13 all weeks starting June 26</span></strong><br />\n&nbsp\;
LOCATION:Rock Haven Climbing Gym 355 NE 223rd Ave Gresham\, OR 97030
UID:e.1572.12719
SEQUENCE:3
DTSTAMP:20260419T214046Z
URL:https://business.greshamchamber.org/events/details/summer-camp-open-house-12719
END:VEVENT

END:VCALENDAR
