BEGIN:VCALENDAR
VERSION:2.0
PRODID:-//ChamberMaster//Event Calendar 2.0//EN
METHOD:PUBLISH
X-PUBLISHED-TTL:P3D
REFRESH-INTERVAL:P3D
CALSCALE:GREGORIAN
BEGIN:VEVENT
DTSTART:20230510T223000Z
DTEND:20230511T013000Z
X-MICROSOFT-CDO-ALLDAYEVENT:FALSE
SUMMARY:Spring Chamber Expo
DESCRIPTION:Spring Chamber Expo \n\n	Featuring over 40 members\n	Connecting business and people\n	Invite friends\, family\, and business peers\n\n\n\nIf you are interested in having a table to participate to connect with 150-200 people\, please reach out to the chamber to register.  Attendance is free to come make connections\, have fun\, and learn more about our newest members!  Fill out a passport by talking with at least 20 vendors to be entered to win great prizes!
X-ALT-DESC;FMTTYPE=text/html:<span style="color:#0000FF\;"><span style="font-size: 24px\;"><span style="font-family: arial\;"><strong>Spring Chamber Expo&nbsp\;</strong></span></span></span>\n<ul>\n	<li><span style="font-size:22px\;"><span style="font-family: arial\;">Featuring over 40 members</span></span></li>\n	<li><span style="font-size:22px\;"><span style="font-family: arial\;">Connecting business and people</span></span></li>\n	<li><span style="font-size:22px\;"><span style="font-family: arial\;">Invite friends\, family\, and business peers</span></span></li>\n</ul>\n<br />\n<strong><span style="font-family: arial\, sans-serif\;"><span style="font-size: 16.5pt\;">If you are interested in having a table to participate to connect with 150-200 people\, please reach out to the chamber to register.&nbsp\; Attendance is free to come make connections\, have fun\, and learn more about our newest members!&nbsp\; Fill out a passport by talking with at least 20 vendors to be entered to win great prizes!</span></span></strong><br />\n<br />\n<br />\n&nbsp\;
LOCATION:Gateway Gresham Elks Lodge #1805 3330 NE Division Street Gresham\, OR 97030
UID:e.1572.12573
SEQUENCE:3
DTSTAMP:20260420T064501Z
URL:https://business.greshamchamber.org/events/details/spring-chamber-expo-12573
END:VEVENT

END:VCALENDAR
