BEGIN:VCALENDAR
VERSION:2.0
PRODID:-//ChamberMaster//Event Calendar 2.0//EN
METHOD:PUBLISH
X-PUBLISHED-TTL:P3D
REFRESH-INTERVAL:P3D
CALSCALE:GREGORIAN
BEGIN:VEVENT
DTSTART:20210924T142000Z
DTEND:20210924T160000Z
X-MICROSOFT-CDO-ALLDAYEVENT:FALSE
SUMMARY:Speed Networking "In-person"
DESCRIPTION:Hosted by Mt. Hood Community College\nA great networking opportunity to meet Chamber members and prospective members.\n\nNew faces are always welcome!\n\n \n\nWe will be limiting attendance to the first 40 people\, so please register to reserve your spot. We will be observing safety precautions of social distancing and face masks are required. Thank you!
X-ALT-DESC;FMTTYPE=text/html:<br />\n<span style="font-size:22px\;"><span style="font-family:arial\;">Hosted by</span>&nbsp\;<strong><span style="color:#800080\;"><span style="font-family:arial\;">Mt. Hood Community College</span></span></strong></span>\n<p style="box-sizing: border-box\; margin: 0px 0px 1rem\; font-family: Raleway\, sans-serif\; font-size: 16px\; background-color: rgb(249\, 249\, 249)\;"><span style="font-size: 22px\;"><span style="font-family: arial\;"><span style="box-sizing: border-box\;">A great networking opportunity to meet&nbsp\;Chamber members and prospective members.</span></span></span></p>\n\n<p style="box-sizing: border-box\; margin: 0px 0px 1rem\; font-family: Raleway\, sans-serif\; font-size: 16px\; background-color: rgb(249\, 249\, 249)\;"><span style="font-size: 22px\;"><span style="font-family: arial\;"><span style="box-sizing: border-box\;">New faces are always welcome!</span></span></span></p>\n\n<div>&nbsp\;</div>\n\n<p style="box-sizing: border-box\; margin: 0px 0px 1rem\; font-family: Raleway\, sans-serif\; font-size: 16px\; background-color: rgb(249\, 249\, 249)\;"><em style="box-sizing: border-box\; font-weight: 700\;"><span style="box-sizing: border-box\; font-size: 20px\;"><span style="box-sizing: border-box\;"><span style="box-sizing: border-box\;"><span style="box-sizing: border-box\; font-family: arial\;">We will be limiting attendance to the first 40 people\, so please register to reserve&nbsp\;your spot. We&nbsp\;will be observing safety precautions of social distancing&nbsp\;and face masks are required.&nbsp\;</span></span></span><span style="box-sizing: border-box\;"><span style="box-sizing: border-box\;"><span style="box-sizing: border-box\; font-family: arial\;">Thank you!</span></span><span style="box-sizing: border-box\; color: rgb(0\, 0\, 0)\;"><span style="box-sizing: border-box\; font-family: arial\;">&nbsp\;</span></span></span></span></em></p>\n
LOCATION:Yoshida Haven Estate (Registration is needed as we are limited to the first 40 people.) 29330 SE Stark St. Troutdale\, OR 97060
UID:e.1572.9316
SEQUENCE:3
DTSTAMP:20260425T235503Z
URL:https://business.greshamchamber.org/events/details/speed-networking-in-person-9316
END:VEVENT

END:VCALENDAR
