BEGIN:VCALENDAR
VERSION:2.0
PRODID:-//ChamberMaster//Event Calendar 2.0//EN
METHOD:PUBLISH
X-PUBLISHED-TTL:P3D
REFRESH-INTERVAL:P3D
CALSCALE:GREGORIAN
BEGIN:VEVENT
DTSTART:20210918T170000Z
DTEND:20210918T230000Z
X-MICROSOFT-CDO-ALLDAYEVENT:FALSE
SUMMARY:Snap Fitness Grand Opening
DESCRIPTION:Please join us for our Grand Opening Event! Bring the family\, tell your friends!! Here's what's going on at the club 10am until 4pm:\n\n-No dues until 2022 when you join the day of the event!\n\n- Free Wrestling camp ages 5-17 from 10am-12pm\n\n-Free Jiu Jitsu lessons ALL AGES 12pm-4pm\n\n-RAFFLE DRAWING = One Lifetime Membership\, PLUS lots of other great prizes!!!\n\n- HIIT&LIFT group Classes throughout the day with Coach Rachel\n\n-Free Snacks/Beverages\n\n- All Raffle proceeds will be donated to the Bloomin' Boutique Charity\n\n\n\nWe look forward to seeing you all! \n\nUnable to attend? Please share our Facebook event!
X-ALT-DESC;FMTTYPE=text/html:Please join us for our Grand Opening Event! Bring the family\, tell your friends!! Here&#39\;s what&#39\;s going on at the club 10am until 4pm:<br />\n-No dues until 2022 when you join the day of the event!<br />\n- Free Wrestling camp ages 5-17 from 10am-12pm<br />\n-Free Jiu Jitsu lessons ALL AGES 12pm-4pm<br />\n-RAFFLE DRAWING = One Lifetime Membership\, PLUS lots of other great prizes!!!<br />\n- HIIT&amp\;LIFT group Classes throughout the day with Coach Rachel<br />\n-Free Snacks/Beverages<br />\n- All Raffle proceeds will be donated to the Bloomin&#39\; Boutique Charity<br />\n<br />\nWe look forward to seeing you all!&nbsp\;<br />\nUnable to attend? Please share our Facebook event!&nbsp\;
LOCATION:
UID:e.1572.9818
SEQUENCE:3
DTSTAMP:20260426T000252Z
URL:https://business.greshamchamber.org/events/details/snap-fitness-grand-opening-09-18-2021-9818
END:VEVENT

END:VCALENDAR
