BEGIN:VCALENDAR
VERSION:2.0
PRODID:-//ChamberMaster//Event Calendar 2.0//EN
METHOD:PUBLISH
X-PUBLISHED-TTL:P3D
REFRESH-INTERVAL:P3D
CALSCALE:GREGORIAN
BEGIN:VEVENT
DTSTART;VALUE=DATE:20260509
DTEND;VALUE=DATE:20260510
TRANSP:TRANSPARENT
X-MICROSOFT-CDO-ALLDAYEVENT:TRUE
SUMMARY:Salvation Army Annual Plant Sale
DESCRIPTION:Annual Plant Sale at The Salvation Army\, Gresham located at 473 SE 194th Ave\, Portland OR 97233 on\n\nSaturday May 9th\, 2026\, from 9:00AM to 4:00PM!\n\nChoose from a huge variety of landscaping trees\, hedges\, & shrubbery all at great prices and from \n\nlocal Nurseries.  All proceeds go to support the services and programs we provide to those in need in our community.
X-ALT-DESC;FMTTYPE=text/html:Annual Plant Sale at The Salvation Army\, Gresham located at 473 SE 194th Ave\, Portland OR 97233 on<br />\nSaturday May 9th\, 2026\, from 9:00AM to 4:00PM!<br />\nChoose from a huge variety of landscaping trees\, hedges\, &amp\; shrubbery all at great prices and from&nbsp\;<br />\nlocal Nurseries.&nbsp\; All proceeds go to support the services and programs we provide to those in need in our community.<br />\n&nbsp\;
LOCATION:Sale located at: Salvation Army\, Gresham 473 SE 194th Ave Portland OR 97233
UID:e.1572.15482
SEQUENCE:3
DTSTAMP:20260421T182854Z
URL:https://business.greshamchamber.org/events/details/salvation-army-annual-plant-sale-05-09-2026-15482
END:VEVENT

END:VCALENDAR
