BEGIN:VCALENDAR
VERSION:2.0
PRODID:-//ChamberMaster//Event Calendar 2.0//EN
METHOD:PUBLISH
X-PUBLISHED-TTL:P3D
REFRESH-INTERVAL:P3D
CALSCALE:GREGORIAN
BEGIN:VEVENT
DTSTART:20210910T161500Z
DTEND:20210910T163000Z
X-MICROSOFT-CDO-ALLDAYEVENT:FALSE
SUMMARY:Ribbon Cutting
DESCRIPTION:Come celebrate Mt. Hood Insurance's new building and remodel!
X-ALT-DESC;FMTTYPE=text/html:<span style="font-size:22px\;">Come celebrate&nbsp\;<strong><span style="color:#800080\;">Mt. Hood Insurance</span></strong></span><span style="font-size: 22px\;">&#39\;s new building and remodel!</span>
LOCATION:Mt. Hood Insurance 21707 SE Stark St. Gresham\, OR 97030
UID:e.1572.9813
SEQUENCE:3
DTSTAMP:20260425T234759Z
URL:https://business.greshamchamber.org/events/details/ribbon-cutting-9813
END:VEVENT

END:VCALENDAR
