BEGIN:VCALENDAR
VERSION:2.0
PRODID:-//ChamberMaster//Event Calendar 2.0//EN
METHOD:PUBLISH
X-PUBLISHED-TTL:P3D
REFRESH-INTERVAL:P3D
CALSCALE:GREGORIAN
BEGIN:VEVENT
DTSTART:20210820T161500Z
DTEND:20210820T163000Z
X-MICROSOFT-CDO-ALLDAYEVENT:FALSE
SUMMARY:Ribbon Cutting
DESCRIPTION:Come and help us celebrate Savvy Care Mobility!
X-ALT-DESC;FMTTYPE=text/html:<span style="font-size:22px\;">Come and help us celebrate</span>&nbsp\;<strong><span style="font-size:22px\;"><span style="color:#008000\;">Savvy Care Mobility!</span></span></strong>
LOCATION:Savvy Care Mobility 532 N Main Gresham\, OR 97030
UID:e.1572.9788
SEQUENCE:3
DTSTAMP:20260425T214728Z
URL:https://business.greshamchamber.org/events/details/ribbon-cutting-9788
END:VEVENT

END:VCALENDAR
