BEGIN:VCALENDAR
VERSION:2.0
PRODID:-//ChamberMaster//Event Calendar 2.0//EN
METHOD:PUBLISH
X-PUBLISHED-TTL:P3D
REFRESH-INTERVAL:P3D
CALSCALE:GREGORIAN
BEGIN:VEVENT
DTSTART:20210716T161500Z
DTEND:20210716T163000Z
X-MICROSOFT-CDO-ALLDAYEVENT:FALSE
SUMMARY:Ribbon Cutting
DESCRIPTION:Come celebrate Dr. Marlena Kennedy\, ND's new location!
X-ALT-DESC;FMTTYPE=text/html:<br />\n<span style="font-size:22px\;">Come celebrate&nbsp\;<strong><span style="color:#800080\;">Dr. Marlena Kennedy\, ND</span></strong>&#39\;s new location!</span>
LOCATION:Dr. Marlena Kennedy\, ND 500 NW 20th St. Suite 101 Gresham\, OR 97030
UID:e.1572.9780
SEQUENCE:3
DTSTAMP:20260425T195513Z
URL:https://business.greshamchamber.org/events/details/ribbon-cutting-9780
END:VEVENT

END:VCALENDAR
