BEGIN:VCALENDAR
VERSION:2.0
PRODID:-//ChamberMaster//Event Calendar 2.0//EN
METHOD:PUBLISH
X-PUBLISHED-TTL:P3D
REFRESH-INTERVAL:P3D
CALSCALE:GREGORIAN
BEGIN:VEVENT
DTSTART:20210917T161500Z
DTEND:20210917T163000Z
X-MICROSOFT-CDO-ALLDAYEVENT:FALSE
SUMMARY:Ribbon Cutting
DESCRIPTION:Come celebrate the Grand Opening for Snap Fitness!
X-ALT-DESC;FMTTYPE=text/html:<br />\n<span style="font-size:22px\;">Come celebrate the Grand Opening for&nbsp\;<strong><span style="color:#800080\;">Snap Fitness</span></strong>!</span>
LOCATION:Snap Fitness 400 NW Eastman Parkway Gresham\, OR 97030
UID:e.1572.9768
SEQUENCE:3
DTSTAMP:20260425T234759Z
URL:https://business.greshamchamber.org/events/details/ribbon-cutting-9768
END:VEVENT

END:VCALENDAR
