BEGIN:VCALENDAR
VERSION:2.0
PRODID:-//ChamberMaster//Event Calendar 2.0//EN
METHOD:PUBLISH
X-PUBLISHED-TTL:P3D
REFRESH-INTERVAL:P3D
CALSCALE:GREGORIAN
BEGIN:VEVENT
DTSTART:20210709T160000Z
DTEND:20210709T161500Z
X-MICROSOFT-CDO-ALLDAYEVENT:FALSE
SUMMARY:Ribbon Cutting
DESCRIPTION:Come celebrate The Bold Orange's new location!
X-ALT-DESC;FMTTYPE=text/html:<br />\n<span style="font-size:22px\;">Come celebrate <strong><span style="color:#800080\;">The Bold Orange</span></strong>&#39\;s new location!</span>
LOCATION:The Bold Orange 406 NE 4th St.\, Suite 126 Gresham\, OR 97030
UID:e.1572.9759
SEQUENCE:3
DTSTAMP:20260425T195513Z
URL:https://business.greshamchamber.org/events/details/ribbon-cutting-9759
END:VEVENT

END:VCALENDAR
