BEGIN:VCALENDAR
VERSION:2.0
PRODID:-//ChamberMaster//Event Calendar 2.0//EN
METHOD:PUBLISH
X-PUBLISHED-TTL:P3D
REFRESH-INTERVAL:P3D
CALSCALE:GREGORIAN
BEGIN:VEVENT
DTSTART:20210702T161500Z
DTEND:20210702T163000Z
X-MICROSOFT-CDO-ALLDAYEVENT:FALSE
SUMMARY:Ribbon Cutting
DESCRIPTION:Celebrate The Gresham Toy Shop's Grand Opening!
X-ALT-DESC;FMTTYPE=text/html:<br />\n<span style="font-size:22px\;">Celebrate <strong><span style="color:#800080\;">The Gresham Toy Shop&#39\;s</span></strong> Grand Opening!&nbsp\;</span>
LOCATION:The Gresham Toy Shop 126 N. Main Ave. Gresham\, OR 97030
UID:e.1572.9506
SEQUENCE:3
DTSTAMP:20260425T195447Z
URL:https://business.greshamchamber.org/events/details/ribbon-cutting-9506
END:VEVENT

END:VCALENDAR
