BEGIN:VCALENDAR
VERSION:2.0
PRODID:-//ChamberMaster//Event Calendar 2.0//EN
METHOD:PUBLISH
X-PUBLISHED-TTL:P3D
REFRESH-INTERVAL:P3D
CALSCALE:GREGORIAN
BEGIN:VEVENT
DTSTART:20230818T161500Z
DTEND:20230818T163000Z
X-MICROSOFT-CDO-ALLDAYEVENT:FALSE
SUMMARY:Ribbon Cutting
DESCRIPTION:Come celebrate the new location for Andersen Electric\, Inc.!
X-ALT-DESC;FMTTYPE=text/html:<span style="font-size:22px\;"><strong>Come celebrate the new location for&nbsp\;<span style="color:#800080\;">Andersen Electric\, Inc.</span>!&nbsp\;</strong></span>
LOCATION:Andersen Electric\, Inc. 335 NE Roberts Ave. Suite 101 Gresham\, OR 97030
UID:e.1572.12948
SEQUENCE:3
DTSTAMP:20260419T182908Z
URL:https://business.greshamchamber.org/events/details/ribbon-cutting-12948
END:VEVENT

END:VCALENDAR
