BEGIN:VCALENDAR
VERSION:2.0
PRODID:-//ChamberMaster//Event Calendar 2.0//EN
METHOD:PUBLISH
X-PUBLISHED-TTL:P3D
REFRESH-INTERVAL:P3D
CALSCALE:GREGORIAN
BEGIN:VEVENT
DTSTART:20230623T161500Z
DTEND:20230623T163000Z
X-MICROSOFT-CDO-ALLDAYEVENT:FALSE
SUMMARY:Ribbon Cutting
DESCRIPTION:Come celebrate the grand opening of Hope's Cafe!
X-ALT-DESC;FMTTYPE=text/html:<strong><span style="font-size:22px\;">Come celebrate the grand opening of&nbsp\;<span style="color:#800080\;">Hope&#39\;s Cafe</span>!&nbsp\;</span></strong>
LOCATION:Hope's Cafe 455 NE Burnside Road Gresham\, OR 97030
UID:e.1572.12711
SEQUENCE:3
DTSTAMP:20260420T064415Z
URL:https://business.greshamchamber.org/events/details/ribbon-cutting-12711
END:VEVENT

END:VCALENDAR
