BEGIN:VCALENDAR
VERSION:2.0
PRODID:-//ChamberMaster//Event Calendar 2.0//EN
METHOD:PUBLISH
X-PUBLISHED-TTL:P3D
REFRESH-INTERVAL:P3D
CALSCALE:GREGORIAN
BEGIN:VEVENT
DTSTART:20230310T170000Z
DTEND:20230310T171500Z
X-MICROSOFT-CDO-ALLDAYEVENT:FALSE
SUMMARY:Ribbon Cutting
DESCRIPTION:Come celebrate the three year anniversary for Cascadia Arts Association (CAA)!
X-ALT-DESC;FMTTYPE=text/html:<span style="font-size:22px\;"><strong>Come celebrate the three year anniversary for</strong>&nbsp\;<strong><span style="color: rgb(128\, 0\, 128)\;"><span style="font-family: arial\;">Cascadia Arts Association (CAA)</span></span><span style="font-family: arial\;">!</span></strong></span>
LOCATION:Center for the Arts Foundation Little Theater 333 N Main Ave. (enter at 3rd & Miller) Gresham\, OR 97030
UID:e.1572.12000
SEQUENCE:3
DTSTAMP:20260421T012921Z
URL:https://business.greshamchamber.org/events/details/ribbon-cutting-12000
END:VEVENT

END:VCALENDAR
