BEGIN:VCALENDAR
VERSION:2.0
PRODID:-//ChamberMaster//Event Calendar 2.0//EN
METHOD:PUBLISH
X-PUBLISHED-TTL:P3D
REFRESH-INTERVAL:P3D
CALSCALE:GREGORIAN
BEGIN:VEVENT
DTSTART:20220819T161500Z
DTEND:20220819T163000Z
X-MICROSOFT-CDO-ALLDAYEVENT:FALSE
SUMMARY:Ribbon Cutting
DESCRIPTION:Come celebrate the grand opening for Low Carb Comforts!
X-ALT-DESC;FMTTYPE=text/html:<strong><span style="font-size:22px\;">Come celebrate the grand opening for&nbsp\;<span style="color:#800080\;">Low Carb Comforts</span>!&nbsp\;</span></strong>
LOCATION:Low Carb Comforts 151 SW 257th Drive Troutdale\, OR 97060 (Located inside the Troutdale Food Carts main building)
UID:e.1572.10976
SEQUENCE:3
DTSTAMP:20260423T170211Z
URL:https://business.greshamchamber.org/events/details/ribbon-cutting-10976
END:VEVENT

END:VCALENDAR
