BEGIN:VCALENDAR
VERSION:2.0
PRODID:-//ChamberMaster//Event Calendar 2.0//EN
METHOD:PUBLISH
X-PUBLISHED-TTL:P3D
REFRESH-INTERVAL:P3D
CALSCALE:GREGORIAN
BEGIN:VEVENT
DTSTART:20220118T193000Z
DTEND:20220118T210000Z
X-MICROSOFT-CDO-ALLDAYEVENT:FALSE
SUMMARY:POSTPONED - Business & Leaders Luncheon
DESCRIPTION:This month's Business and Leaders Luncheon is postponed. Please check the upcoming calendar for this event in the future\, thank you. \n\n\n\nMHCC Business Department:  The Future for Local Business Workforce\n\nA panel discussion from the Business Department of MHCC\n\n\n\nPlease register in advance to attend. Lunch is $22 for members\, $30 for non-members\, or beverage only is $5 for members and $8 for non-members.
X-ALT-DESC;FMTTYPE=text/html:<span style="color:#800000\;"><span style="font-size:24px\;"><span style="font-family:arial\;"><strong>This month&#39\;s Business and Leaders Luncheon is postponed. Please check the upcoming calendar for this event in the future\, thank you.&nbsp\;</strong></span></span></span><br />\n<br />\n<span style="font-size:24px\;"><span style="font-family:arial\;">MHCC Business Department:&nbsp\; The Future for Local Business Workforce</span><br />\n<span style="font-family:footlight mt light\,serif\;"><span style="font-family:arial\;">A panel discussion from the Business Department of MHCC</span></span></span><br />\n<br />\n<em><span style="font-size: 22px\;">Please register in advance to attend. Lunch is $22 for members\, $30 for non-members\, or beverage only is $5 for members and $8 for non-members.&nbsp\;</span></em>
LOCATION:Persimmon Country Club 500 SE Butler Road Gresham\, OR 97080
UID:e.1572.9967
SEQUENCE:3
DTSTAMP:20260426T010334Z
URL:https://business.greshamchamber.org/events/details/postponed-business-leaders-luncheon-9967
END:VEVENT

END:VCALENDAR
