BEGIN:VCALENDAR
VERSION:2.0
PRODID:-//ChamberMaster//Event Calendar 2.0//EN
METHOD:PUBLISH
X-PUBLISHED-TTL:P3D
REFRESH-INTERVAL:P3D
CALSCALE:GREGORIAN
BEGIN:VEVENT
DTSTART;VALUE=DATE:20210810
DTEND;VALUE=DATE:20210811
TRANSP:TRANSPARENT
X-MICROSOFT-CDO-ALLDAYEVENT:TRUE
SUMMARY:Photos Due for Time of Remembering
DESCRIPTION:Submit photos of loved ones you've lost by August 10th to be included in our outdoor Time of Remembering event at Meinig Park on August 25th.\n\n\n\nEmail event@mthoodhospice.org for more information\, inquiries or submissions.
X-ALT-DESC;FMTTYPE=text/html:Submit photos of loved ones you&#39\;ve lost by August 10th to be included in our outdoor Time of Remembering event at Meinig Park on August 25th.<br />\n<br />\n<strong>Email&nbsp\;<a href="mailto:event@mthoodhospice.org" style="box-sizing: border-box\; margin: 0px\; padding: 0px\; border: 0px\; outline: 0px\; text-size-adjust: 100%\; vertical-align: baseline\; background: transparent\; color: rgb(0\, 0\, 238)\; text-decoration-line: none\;">event@mthoodhospice.org</a>&nbsp\;for more information\, inquiries or submissions.</strong>
LOCATION:Email photos to: event@mthoodhospice.org
UID:e.1572.9796
SEQUENCE:3
DTSTAMP:20260425T215036Z
URL:https://business.greshamchamber.org/events/details/photos-due-for-time-of-remembering-9796
END:VEVENT

END:VCALENDAR
