BEGIN:VCALENDAR
VERSION:2.0
PRODID:-//ChamberMaster//Event Calendar 2.0//EN
METHOD:PUBLISH
X-PUBLISHED-TTL:P3D
REFRESH-INTERVAL:P3D
CALSCALE:GREGORIAN
BEGIN:VEVENT
DTSTART:20210810T010000Z
DTEND:20210810T040000Z
X-MICROSOFT-CDO-ALLDAYEVENT:FALSE
SUMMARY:Paesano Bocce Club Summer Leagues
DESCRIPTION:Paesano Bocce Club is starting Summer Leagues. Our leagues are open to the public\, of all skill levels\, and of any age.  You can join as a team\, or as an individual\, as we can place you on a team.\n\nMonday Night: Intermediate to Advanced Players\n\nTuesday Night: Beginner to Intermediate Players
X-ALT-DESC;FMTTYPE=text/html:<h2 style="font-style:italic\;"><strong><span style="font-size:14px">Paesano Bocce Club is starting Summer Leagues. Our leagues are open to the public\, of all skill levels\, and of any age.&nbsp\; You can join as a team\, or as an individual\, as we can place you on a team.</span></strong></h2>\n\n<h2 style="font-style:italic\;"><strong><span style="font-size:14px">Monday Night: Intermediate to Advanced Players</span></strong></h2>\n\n<h2 style="font-style:italic\;"><span style="font-size:14px"><strong>Tuesday Night: Beginner to Intermediate Players</strong></span></h2>\n
LOCATION:Cedarville Lodge and Park: 3800 West Powell Loop\, Gresham\, OR. 97030
UID:e.1572.9676
SEQUENCE:3
DTSTAMP:20260426T000120Z
URL:https://business.greshamchamber.org/events/details/paesano-bocce-club-summer-leagues-08-09-2021-9676
END:VEVENT

END:VCALENDAR
