BEGIN:VCALENDAR
VERSION:2.0
PRODID:-//ChamberMaster//Event Calendar 2.0//EN
METHOD:PUBLISH
X-PUBLISHED-TTL:P3D
REFRESH-INTERVAL:P3D
CALSCALE:GREGORIAN
BEGIN:VEVENT
DTSTART:20221111T152000Z
DTEND:20221111T170000Z
X-MICROSOFT-CDO-ALLDAYEVENT:FALSE
SUMMARY:NO FRIDAY AM
DESCRIPTION:There will be no Friday AM in observance of the Veteran's Day holiday. We would like to thank the many Veteran's for their service to our great country. We look forward to seeing you all next week!
X-ALT-DESC;FMTTYPE=text/html:<br />\n<strong><span style="font-size:22px\;">There will be no Friday AM in observance of the Veteran&#39\;s Day holiday. We would like to thank the many Veteran&#39\;s for their service to our great country.&nbsp\;<span style="font-family: arial\;">We look forward to seeing you all next week!&nbsp\;</span></span></strong>
LOCATION:
UID:e.1572.11001
SEQUENCE:3
DTSTAMP:20260422T204844Z
URL:https://business.greshamchamber.org/events/details/no-friday-am-11001
END:VEVENT

END:VCALENDAR
