BEGIN:VCALENDAR
VERSION:2.0
PRODID:-//ChamberMaster//Event Calendar 2.0//EN
METHOD:PUBLISH
X-PUBLISHED-TTL:P3D
REFRESH-INTERVAL:P3D
CALSCALE:GREGORIAN
BEGIN:VEVENT
DTSTART:20210713T013000Z
DTEND:20210713T030000Z
X-MICROSOFT-CDO-ALLDAYEVENT:FALSE
SUMMARY:Music Mondays presents The Boondock Boys
DESCRIPTION:Join the Center For The Arts Foundation at Music Mondays at the Arts Plaza for The Boondock Boys.\n\n\n\nFrom the hills of Oregon's Grand Ronde valley to the deep south of Loreauville Louisiana\, this southern style rock and country band has everything to satisfy your musical palate with heartfelt originals and explosive covers from the past.   From a small town to a big sound.   The Boondock Boys are committed to making every show a guaranteed great time for all including our fans\, new friends and family.   \n\nVocals/Guitar - Skyylar Pelous   \n\nLead Guitar - Christian Pond   \n\nBass - Ryan Stadler   \n\nDrums - Jason Snell\n\nWe are a mix of mostly classic/southern rock\, and country. We have a setlist full of classic rock and country hits that will keep the crowd entertained. We have original music too\, but we make sure to spread it out throughout the sets to give a good mix of covers and originals.   \n\nWe have 4 hours of material. We play everything from Lynyrd Skynyrd\, ZZ Top\, Eagles\, Tom Petty\, to Chris Stapleton\, Luke Combs\, Brothers Osborne\, and Brooks & Dunn.\n\n\n\nWhile at the event enjoy dinner from local vendors or a beer or wine from Hoppy Brewer. Family-friendly FREE concerts for all in the community.
X-ALT-DESC;FMTTYPE=text/html:Join the Center For The Arts Foundation at Music Mondays at the Arts Plaza for The Boondock Boys.<br />\n<br />\nFrom the hills of Oregon&#39\;s Grand Ronde valley to the deep south of Loreauville Louisiana\, this southern style rock and country band has everything to satisfy your musical palate with heartfelt originals and explosive covers from the past.&nbsp\;&nbsp\; From a small town to a big sound.&nbsp\;&nbsp\; The Boondock Boys are committed to making every show a guaranteed great time for all including our fans\, new friends and family.&nbsp\;&nbsp\;&nbsp\;<br />\nVocals/Guitar - Skyylar Pelous&nbsp\;&nbsp\;&nbsp\;<br />\nLead Guitar - Christian Pond&nbsp\;&nbsp\;&nbsp\;<br />\nBass - Ryan Stadler&nbsp\;&nbsp\;&nbsp\;<br />\nDrums - Jason Snell<br />\nWe are a mix of mostly classic/southern rock\, and country. We have a setlist full of classic rock and country hits that will keep the crowd entertained. We have original music too\, but we make sure to spread it out throughout the sets to give a good mix of covers and originals.&nbsp\;&nbsp\;&nbsp\;<br />\nWe have 4 hours of material. We play everything from Lynyrd Skynyrd\, ZZ Top\, Eagles\, Tom Petty\, to Chris Stapleton\, Luke Combs\, Brothers Osborne\, and Brooks &amp\; Dunn.<br />\n<br />\nWhile at the event enjoy dinner from local vendors or a beer or wine from Hoppy Brewer. Family-friendly FREE concerts for all in the community.
LOCATION:Gresham Arts Plaza 488 NE 3rd in Historic Downtown
UID:e.1572.9773
SEQUENCE:3
DTSTAMP:20260425T200028Z
URL:https://business.greshamchamber.org/events/details/music-mondays-presents-the-boondock-boys-9773
END:VEVENT

END:VCALENDAR
