BEGIN:VCALENDAR
VERSION:2.0
PRODID:-//ChamberMaster//Event Calendar 2.0//EN
METHOD:PUBLISH
X-PUBLISHED-TTL:P3D
REFRESH-INTERVAL:P3D
CALSCALE:GREGORIAN
BEGIN:VEVENT
DTSTART:20210720T013000Z
DTEND:20210720T030000Z
X-MICROSOFT-CDO-ALLDAYEVENT:FALSE
SUMMARY:Music Mondays presents Cary Novotny Band
DESCRIPTION:Join the Center For The Arts Foundation at Music Mondays at the Arts Plaza with the Cary Novotny Band\n\n\n\nCary Novotny was born in South Dakota. He studied classical guitar in Bowling Green\, KY where he was also influenced by country\, folk\, and bluegrass. Cary earned a Bachelor of Music degree at the University of Portland and began a career as a professional guitarist\, singer and songwriter in the Northwest. Having recorded and performed with many other notable musicians including Kevin Burke\, The Bridies\, Johnny Connolly\, Tony Furtado\, Hanz Araki\, Winifred Horan\, and the touring Irish dance show Celtic Legends\, Cary is described as "a masterful guitarist with an epic sense of harmony\, song structure\, and a soulful and captivating vocalist" by the Willamette Week newspaper in Portland\, Oregon\n\n\n\nWhile at the event enjoy dinner from local vendors or a beer or wine from Hoppy Brewer. Family-friendly FREE concerts for all in the community.
X-ALT-DESC;FMTTYPE=text/html:Join the Center For The Arts Foundation at Music Mondays at the Arts Plaza with the Cary Novotny Band<br />\n<br />\nCary Novotny was born in South Dakota. He studied classical guitar in Bowling Green\, KY where he was also influenced by country\, folk\, and bluegrass. Cary earned a Bachelor of Music degree at the University of Portland and began a career as a professional guitarist\, singer and songwriter in the Northwest. Having recorded and performed with many other notable musicians including Kevin Burke\, The Bridies\, Johnny Connolly\, Tony Furtado\, Hanz Araki\, Winifred Horan\, and the touring Irish dance show Celtic Legends\, Cary is described as &ldquo\;a masterful guitarist with an epic sense of harmony\, song structure\, and a soulful and captivating vocalist&rdquo\; by the Willamette Week newspaper in Portland\, Oregon<br />\n<br />\nWhile at the event enjoy dinner from local vendors or a beer or wine from Hoppy Brewer. Family-friendly FREE concerts&nbsp\;for all in the community.
LOCATION:Gresham Arts Plaza 488 NE 3rd in Historic Downtown
UID:e.1572.9774
SEQUENCE:3
DTSTAMP:20260425T200213Z
URL:https://business.greshamchamber.org/events/details/music-mondays-presents-cary-novotny-band-9774
END:VEVENT

END:VCALENDAR
