BEGIN:VCALENDAR
VERSION:2.0
PRODID:-//ChamberMaster//Event Calendar 2.0//EN
METHOD:PUBLISH
X-PUBLISHED-TTL:P3D
REFRESH-INTERVAL:P3D
CALSCALE:GREGORIAN
BEGIN:VEVENT
DTSTART:20240716T003000Z
DTEND:20240716T033000Z
X-MICROSOFT-CDO-ALLDAYEVENT:FALSE
SUMMARY:Music Mondays
DESCRIPTION:
X-ALT-DESC;FMTTYPE=text/html:
LOCATION:Gresham Arts Plaza 401 NE 2nd Street Gresham\, OR 97030
UID:e.1572.13917
SEQUENCE:3
DTSTAMP:20260420T121202Z
URL:https://business.greshamchamber.org/events/details/music-mondays-07-15-2024-13917
END:VEVENT

END:VCALENDAR
