BEGIN:VCALENDAR
VERSION:2.0
PRODID:-//ChamberMaster//Event Calendar 2.0//EN
METHOD:PUBLISH
X-PUBLISHED-TTL:P3D
REFRESH-INTERVAL:P3D
CALSCALE:GREGORIAN
BEGIN:VEVENT
DTSTART:20210706T013000Z
DTEND:20210706T030000Z
X-MICROSOFT-CDO-ALLDAYEVENT:FALSE
SUMMARY:Music Mondays presents JT Wise Band
DESCRIPTION:Join the Center For The Arts Foundation at Music Mondays at the Arts Plaza. We kick off the season with the JT Wise Band\, a local favorite\, The band's distinctive guitar style gives them a signature sound. Enjoy folk originals and favorites. While at the event enjoy dinner from local vendors or a beer or wine from Hoppy Brewer. Family-friendly FREE concerts for all in the community.
X-ALT-DESC;FMTTYPE=text/html:Join the Center For The Arts Foundation at Music Mondays at the Arts Plaza. We kick off the season with the JT Wise Band\, a local favorite\, The band&#39\;s distinctive guitar style gives them a signature sound. Enjoy folk originals and favorites. While at the event enjoy dinner from local vendors or a beer or wine from Hoppy Brewer. Family-friendly FREE concerts for all in the community.
LOCATION:Gresham Arts Plaza 488 NE 3rd in Historic Downtown
UID:e.1572.9769
SEQUENCE:3
DTSTAMP:20260425T195834Z
URL:https://business.greshamchamber.org/events/details/music-mondays-07-05-2021-9769
END:VEVENT

END:VCALENDAR
