BEGIN:VCALENDAR
VERSION:2.0
PRODID:-//ChamberMaster//Event Calendar 2.0//EN
METHOD:PUBLISH
X-PUBLISHED-TTL:P3D
REFRESH-INTERVAL:P3D
CALSCALE:GREGORIAN
BEGIN:VEVENT
DTSTART:20230824T160000Z
DTEND:20230824T220000Z
X-MICROSOFT-CDO-ALLDAYEVENT:FALSE
SUMMARY:MONTHLY GARAGE SALES
DESCRIPTION:THE VILLAGE RETIREMENT CENTER\n\nIS HOLDING ITS ANNUAL SPRING THROUGH SUMMER GARAGE SALES\n\nON THE FOURTH THURSDAY AND FRIDAY OF EVERY MONTH\n\nALL PROCEEDS GO TOWARDS ASSISTING SENIOR RESIDENTS EXPERIENCING UNEXPECTED FINANCIAL CHALLENGES\n\n\n	BEGINNING ON THURSDAY\, 3/23/2023\, AND FRIDAY\, 3/24/2023\n	FROM 9AM TO 3PM\n	4501 WEST POWELL BOULEVARD\, GRESHAM\, OR 97030 - WEST ENTRANCE
X-ALT-DESC;FMTTYPE=text/html:<div style="text-align: center\;"><em><strong>THE VILLAGE RETIREMENT CENTER<br />\nIS HOLDING ITS ANNUAL SPRING THROUGH SUMMER GARAGE SALES<br />\nON THE FOURTH THURSDAY AND FRIDAY OF EVERY MONTH</strong></em></div>\n\n<p style="text-align: center\;"><em><strong>ALL PROCEEDS GO TOWARDS ASSISTING SENIOR RESIDENTS EXPERIENCING UNEXPECTED FINANCIAL CHALLENGES</strong></em></p>\n\n<ul>\n	<li><em><strong>BEGINNING ON THURSDAY\, 3/23/2023\, AND FRIDAY\, 3/24/2023</strong></em></li>\n	<li><em><strong>FROM 9AM TO 3PM</strong></em></li>\n	<li><em><strong>4501 WEST POWELL BOULEVARD\, GRESHAM\, OR 97030 - WEST ENTRANCE</strong></em></li>\n</ul>\n\n<div style="text-align: center\;"><br />\n&nbsp\;</div>\n
LOCATION:THE VILLAGE RETIREMENT CENTER 4501 WEST POWELL BOULEVARD\, GRESHAM\, OR 97030 USE WEST ENTRANCE
UID:e.1572.12627
SEQUENCE:3
DTSTAMP:20260420T024343Z
URL:https://business.greshamchamber.org/events/details/monthly-garage-sales-08-24-2023-12627
END:VEVENT

END:VCALENDAR
