BEGIN:VCALENDAR
VERSION:2.0
PRODID:-//ChamberMaster//Event Calendar 2.0//EN
METHOD:PUBLISH
X-PUBLISHED-TTL:P3D
REFRESH-INTERVAL:P3D
CALSCALE:GREGORIAN
BEGIN:VEVENT
DTSTART;VALUE=DATE:20260119
DTEND;VALUE=DATE:20260120
TRANSP:TRANSPARENT
X-MICROSOFT-CDO-ALLDAYEVENT:TRUE
SUMMARY:Martin Luther King’s Birthday - Chamber Closed
DESCRIPTION:The Chamber office is closed to observe MLK Day
X-ALT-DESC;FMTTYPE=text/html:The Chamber office is closed to observe MLK Day
LOCATION:
UID:e.1572.14956
SEQUENCE:3
DTSTAMP:20260426T023857Z
URL:https://business.greshamchamber.org/events/details/martin-luther-king-s-birthday-chamber-closed-14956
END:VEVENT

END:VCALENDAR
