BEGIN:VCALENDAR
VERSION:2.0
PRODID:-//ChamberMaster//Event Calendar 2.0//EN
METHOD:PUBLISH
X-PUBLISHED-TTL:P3D
REFRESH-INTERVAL:P3D
CALSCALE:GREGORIAN
BEGIN:VEVENT
DTSTART:20210222T220000Z
DTEND:20210222T233000Z
X-MICROSOFT-CDO-ALLDAYEVENT:FALSE
SUMMARY:Living with Grief Support Group / Virtual
DESCRIPTION:This group is designed to help those who are processing the death of a loved one. We will learn about grief and explore our own grief process\, try new strategies to help when grief is heavy and connect with others. Note: There will be no group help on February 15\, 2021.
X-ALT-DESC;FMTTYPE=text/html:This group is designed to help those who are processing the death of a loved one. We will learn about grief and explore our own grief process\, try new strategies to help when grief is heavy and connect with others. Note: There will be no group help on February 15\, 2021.
LOCATION:Virtual via zoom. Registration required to obtain meeting link information.
UID:e.1572.9076
SEQUENCE:3
DTSTAMP:20260420T090441Z
URL:https://business.greshamchamber.org/events/details/living-with-grief-support-group-virtual-02-22-2021-9076
END:VEVENT

END:VCALENDAR
