BEGIN:VCALENDAR
VERSION:2.0
PRODID:-//ChamberMaster//Event Calendar 2.0//EN
METHOD:PUBLISH
X-PUBLISHED-TTL:P3D
REFRESH-INTERVAL:P3D
CALSCALE:GREGORIAN
BEGIN:VEVENT
DTSTART:20210920T193000Z
DTEND:20210920T223000Z
X-MICROSOFT-CDO-ALLDAYEVENT:FALSE
SUMMARY:Hospice Volunteer Training
DESCRIPTION:There are many different areas for volunteers to assist in the hospice setting. One of course\, is visiting/sitting with terminally ill patients. Visits may include playing cards\, crafting\, reading aloud\, helping them document their life story\, transporting them or their pets to appointments\, picking up groceries\, correspondence or helping with pets. Another way to support hospice patients is through Pet or Music Therapy\, gardening or yard upkeep. Are you creative? Making cards\, sewing bibs\, helping in the main office or with events are other ways to volunteer with Mt. Hood Hospice.\n\n\n\nThis comprehensive training program will include a look into all of the aspects of hospice.  Meet and learn from Mt. Hood Hospice staff including RNs\, Chaplain and social workers. Training will be over a 3-week period and include 2 days per week\, 3-hours per day: September 20\, 22\, 27\, 29\, October 4 and 6\, 2021\, from 12:30   3:30pm at Mt. Hood Hospice.
X-ALT-DESC;FMTTYPE=text/html:There are many different areas for volunteers to assist in the hospice setting. One of course\, is visiting/sitting with terminally ill patients. Visits may include playing cards\, crafting\, reading aloud\, helping them document their life story\, transporting them or their pets to appointments\, picking up groceries\, correspondence or helping with pets. Another way to support hospice patients is through Pet or Music Therapy\, gardening or yard upkeep. Are you creative? Making cards\, sewing bibs\, helping in the main office or with events are other ways to volunteer with Mt. Hood Hospice.<br />\n<br />\nThis comprehensive training program will include a look into all of the aspects of hospice.&nbsp\; Meet and learn from Mt. Hood Hospice staff including RNs\, Chaplain and social workers. Training will be over a 3-week period and include 2 days per week\, 3-hours per day: September 20\, 22\, 27\, 29\, October 4 and 6\, 2021\, from 12:30 &ndash\; 3:30pm at Mt. Hood Hospice.
LOCATION:Mt. Hood Hospice 39065 Pioneer Blvd. Suite 103 Sandy\, OR 97055 Training will be in-person at our office in Sandy. Your volunteer opportunities could be anywhere in Clackamas or East Multnomah Counties.
UID:e.1572.9799
SEQUENCE:3
DTSTAMP:20260425T235435Z
URL:https://business.greshamchamber.org/events/details/hospice-volunteer-training-9799
END:VEVENT

END:VCALENDAR
