BEGIN:VCALENDAR
VERSION:2.0
PRODID:-//ChamberMaster//Event Calendar 2.0//EN
METHOD:PUBLISH
X-PUBLISHED-TTL:P3D
REFRESH-INTERVAL:P3D
CALSCALE:GREGORIAN
BEGIN:VEVENT
DTSTART:20210916T143000Z
DTEND:20210916T154500Z
X-MICROSOFT-CDO-ALLDAYEVENT:FALSE
SUMMARY:Health & Wellness
DESCRIPTION:Topic: \n\nThe Role of the School Counselor Today\n\n\n\nBio:\n\n \n\nBob McDonald is a retired educator and counselor who has worked in the educational system for 47 years.  He is originally from Canada where he was educated and worked in the Canadian public school system for 12 years as a teacher\, counselor and principal.\n\n \n\nHe is a graduate of the K-12 public school system and then the University of Manitoba.  He holds a Bachelor of Arts degree (major in French)\, a Bachelor of Education degree (major in counseling psychology) and a Master of Education degree (major in counseling psychology). \n\n \n\nBob started his career teaching French to high school students\, but very quickly moved into a full-time counseling position\, and then school principalship. He has worked in all grades K-12. He is now retired and living in Happy Valley.\n\n \n\nBob has had a life-long desire to help children have a better childhood. He has\, as a result\, pursued the counseling career avenue and he has always employed his counseling skills in his school administrative roles
X-ALT-DESC;FMTTYPE=text/html:<span style="font-size:22px\;"><span style="font-family:tahoma\;"><span style="color:#333333\;">Topic:</span>&nbsp\;</span></span><br />\n<span style="color:#333333\;"><span style="font-family:helvetica\,sans-serif\;"><span style="font-size:12.0pt\;"><span style="font-size:22px\;"><span style="font-family:tahoma\;">The Role of the School Counselor Today</span></span></span></span></span><br />\n<br />\n<span style="font-size:22px\;"><span style="font-family:tahoma\;">Bio:<br />\n&nbsp\;<br />\nBob McDonald is a retired educator and counselor who has worked in the educational system for 47 years.&nbsp\; He is originally from Canada where he was educated and worked in the Canadian public school system for 12 years as a teacher\, counselor and principal.<br />\n&nbsp\;<br />\nHe is a graduate of the K-12 public school system and then the University of Manitoba.&nbsp\; He holds a Bachelor of Arts degree (major in French)\, a Bachelor of Education degree (major in counseling psychology) and a Master of Education degree (major in counseling psychology).&nbsp\;<br />\n&nbsp\;<br />\nBob started his career teaching French to high school students\, but very quickly moved into a full-time counseling position\, and then school principalship. He has worked in all grades K-12. He is now retired and living in Happy Valley.<br />\n&nbsp\;<br />\nBob has had a life-long desire to help children have a better childhood. He has\, as a result\, pursued the counseling career avenue and he has always employed his counseling skills in his school administrative roles</span></span>
LOCATION:Center for the Arts Foundation (Please enter thru doors on westside of building - off Miller Ave.) 333 N. Main Ave. Gresham\, OR 97030
UID:e.1572.8753
SEQUENCE:3
DTSTAMP:20260425T235801Z
URL:https://business.greshamchamber.org/events/details/health-wellness-09-16-2021-8753
END:VEVENT

END:VCALENDAR
