BEGIN:VCALENDAR
VERSION:2.0
PRODID:-//ChamberMaster//Event Calendar 2.0//EN
METHOD:PUBLISH
X-PUBLISHED-TTL:P3D
REFRESH-INTERVAL:P3D
CALSCALE:GREGORIAN
BEGIN:VEVENT
DTSTART:20210819T143000Z
DTEND:20210819T154500Z
X-MICROSOFT-CDO-ALLDAYEVENT:FALSE
SUMMARY:Health & Wellness
DESCRIPTION:Health Benefits 411 \n\nSpeaker - Leslie Parker\nHEALTH BENEFITS 411\n\n is your local source for finding the right health coverage. Whether you're looking for Individual and Family health coverage\, Medicare coverage or Employee Benefit insurance we have the "411" on the best health insurance plan for your situation.\n\nOur in-depth knowledge on a vast array of health coverage topics gives us the ability to translate how industry changes directly impact you\, your family and your business   now\, and in the future.
X-ALT-DESC;FMTTYPE=text/html:<br />\n<span style="font-size:22px\;"><span style="color:#0000FF\;">Health Benefits 411&nbsp\;</span><br />\n<span style="font-size:20px\;">Speaker - Leslie Parker</span></span>\n<p style="margin: 0px 0px 20px\; color: rgb(64\, 64\, 64)\; font-family: Roboto\; font-size: 18px\; text-align: center\; background-color: rgb(250\, 250\, 250)\;"><span style="font-size:22px\;"><span style="font-weight: bolder\;">HEALTH BENEFITS 411</span><br />\n&nbsp\;is your local source for finding the right health coverage. Whether you&#39\;re looking for Individual and Family health coverage\, Medicare coverage or Employee Benefit insurance&nbsp\;we have the &quot\;411&quot\; on the best health insurance plan for your situation.</span></p>\n\n<p style="margin: 20px 0px 0px\; color: rgb(64\, 64\, 64)\; font-family: Roboto\; font-size: 18px\; text-align: center\; background-color: rgb(250\, 250\, 250)\;"><span style="font-size:22px\;">Our in-depth knowledge on a vast array of health coverage topics gives us the ability to translate how industry changes directly impact you\, your family and your business &ndash\; now\, and in the future.</span></p>\n
LOCATION:Join Zoom Meeting https://us02web.zoom.us/j/81538186012?pwd=NHlnc3d2SUw1NEV2Y3JkcENkK2dzdz09 Meeting ID: 815 3818 6012 Passcode: 236676 One tap mobile +16699006833\,\,81538186012#\,\,\,\,*236676# US (San Jose) +12532158782\,\,81538186012#\,\,\,\,*236676# US (Tacoma) Dial by your location +1 669 900 6833 US (San Jose) +1 253 215 8782 US (Tacoma) +1 346 248 7799 US (Houston) +1 929 205 6099 US (New York) +1 301 715 8592 US (Washington DC) +1 312 626 6799 US (Chicago) Meeting ID: 815 3818 6012 Passcode: 236676 Find your local number: https://us02web.zoom.us/u/klQR16wbA
UID:e.1572.8752
SEQUENCE:3
DTSTAMP:20260425T234954Z
URL:https://business.greshamchamber.org/events/details/health-wellness-08-19-2021-8752
END:VEVENT

END:VCALENDAR
