BEGIN:VCALENDAR
VERSION:2.0
PRODID:-//ChamberMaster//Event Calendar 2.0//EN
METHOD:PUBLISH
X-PUBLISHED-TTL:P3D
REFRESH-INTERVAL:P3D
CALSCALE:GREGORIAN
BEGIN:VEVENT
DTSTART;VALUE=DATE:20210906
DTEND;VALUE=DATE:20210907
TRANSP:TRANSPARENT
X-MICROSOFT-CDO-ALLDAYEVENT:TRUE
SUMMARY:Happy Labor Day - Chamber Office Closed
DESCRIPTION:The Gresham Chamber wishes you and your family a Happy Labor Day!  Our office will be closed in observance of the holiday.
X-ALT-DESC;FMTTYPE=text/html:<br />\n<strong><span style="font-size:22px\;">The Gresham Chamber wishes you and your family a Happy Labor Day!&nbsp\; Our office will be closed in observance of the holiday.&nbsp\;</span></strong>
LOCATION:
UID:e.1572.9339
SEQUENCE:3
DTSTAMP:20260425T235630Z
URL:https://business.greshamchamber.org/events/details/happy-labor-day-chamber-office-closed-9339
END:VEVENT

END:VCALENDAR
